BEGIN:VCALENDAR
VERSION:2.0
PRODID:-//wp-events-plugin.com//7.2.3.1//EN
TZID:Europe/London
X-WR-TIMEZONE:Europe/London
BEGIN:VEVENT
UID:26@footstepsbcf.org.uk
DTSTART;TZID=Europe/London:20201115T140000
DTEND;TZID=Europe/London:20201115T151500
DTSTAMP:20201027T125001Z
URL:https://footstepsbcf.org.uk/events/tread-lightly-2020/
SUMMARY:Tread Lightly on this Earth 2020
DESCRIPTION:Our fifth annual Tread Lightly event will be a celebration of c
 ommunity initiatives that are contributing to the circular economy\, as pa
 rt of National Interfaith Week.\n\nRegister for Tread Lightly\n\nAs always
  the event will be a chance to:\n\n 	hear about different faith perspectiv
 es on the environment\,\n 	get inspired by sustainable initiatives taking 
 place in Birmingham\,\n 	connect with others in small group discussions.\n
 \nWe’ll have a mixture of live and pre-recorded contributions on the the
 me of the circular economy and the 3Rs: Reduce\, Reuse\, Recycle. There ar
 e many exciting initiatives happening in our city\, especially around food
  waste\, which we're keen to learn from.\n\nThere will then be space in br
 eak-out groups to discuss what we’ve heard and think about what we can t
 ake back to our own faith communities. Plus\, it's a chance to connect wit
 h people from different faith groups and share our own experiences.\n\nThi
 s event is free\, please register to receive details of how to join the Zo
 om call:\n\nRegister for Tread Lightly
ATTACH;FMTTYPE=image/jpeg:https://footstepsbcf.org.uk/wp-content/uploads/2
 020/09/recycle-bag.jpg
CATEGORIES:Climate Change,Online event,Practical sustainability,Talk /
 Discussion,Tread Lightly
END:VEVENT
BEGIN:VTIMEZONE
TZID:Europe/London
X-LIC-LOCATION:Europe/London
BEGIN:STANDARD
DTSTART:20201025T010000
TZOFFSETFROM:+0100
TZOFFSETTO:+0000
TZNAME:GMT
END:STANDARD
END:VTIMEZONE
END:VCALENDAR